BEGIN:VCALENDAR
VERSION:2.0
PRODID:-//ChamberMaster//Event Calendar 2.0//EN
METHOD:PUBLISH
X-PUBLISHED-TTL:P1H
REFRESH-INTERVAL:P1H
CALSCALE:GREGORIAN
BEGIN:VTIMEZONE
TZID:America/New_York
BEGIN:DAYLIGHT
RRULE:FREQ=YEARLY;BYMONTH=3;BYDAY=2SU
DTSTART:20070101T000000
TZOFFSETFROM:-0500
TZOFFSETTO:-0400
TZNAME:Eastern Daylight Time
END:DAYLIGHT
BEGIN:STANDARD
RRULE:FREQ=YEARLY;BYMONTH=11;BYDAY=1SU
DTSTART:20070101T000000
TZOFFSETFROM:-0400
TZOFFSETTO:-0500
TZNAME:Eastern Standard Time
END:STANDARD
END:VTIMEZONE
BEGIN:VEVENT
DTSTART;TZID=America/New_York:20260428T103000
DTEND;TZID=America/New_York:20260428T113000
X-MICROSOFT-CDO-ALLDAYEVENT:FALSE
SUMMARY:Bowling Green: Kentucky Christian Chamber - In Person Interest Meeting
DESCRIPTION:We're excited to invite you to our third Interest Meeting for the Kentucky Christian Chamber of Commerce!Our first two gatherings have been powerful\, bringing together Kingdom-minded leaders from across the state. We're grateful for the momentum that continues to build and are excited to share the progress made so far\, along with what's ahead.Join us on April 28th from 10:30 to 11:30 AM as we continue laying the foundation for Kentucky's first Christian Chamber of Commerce and explore how we can advance the Kingdom through the marketplace\, together.During this third Interest Meeting\, we will:  Highlight recent progress and key developments\n  Share updates on vision and structure\n  Build connections with like-minded marketplace leaders\n  Spend time in prayer over what God is building\n  Discuss next steps as we move closer to launch📍 Location:\nGreenwood Baptist Church\n5165 Scottsville Road\nBowling Green\, KYPlease feel free to share this invitation with others who may be interested!We would love for you to join us and be part of this growing community of Kingdom-minded professionals impacting the marketplace for Christ.Thank you for your continued support and enthusiasm we look forward to seeing you there!\nIf you are wanting to join virtually\, please register\, and use this link:💻 Virtual Option (Microsoft Teams):\n Join:  https://teams.microsoft.com/meet/27986614307787?p=wRkDYpPaLDUPMF8wpZ\n Meeting ID: 279 866 143 077 87\n Passcode: BX2ML3TK\nStay updated on Facebook
X-ALT-DESC;FMTTYPE=text/html:<!DOCTYPE html><html><head><title></title></head><body aria-disabled="false"><p data-end="218" data-start="107">We&rsquo\;re excited to invite you to our <strong data-end="168" data-start="142" fr-original-style="" style="font-weight: 700\;">third Interest Meeting</strong> for the Kentucky Christian Chamber of Commerce!</p><p data-end="462" data-start="220">Our first two gatherings have been powerful\, bringing together Kingdom-minded leaders from across the state. We&rsquo\;re grateful for the momentum that continues to build and are excited to share the progress made so far\, along with what&rsquo\;s ahead.</p><p data-end="679" data-start="464">Join us on <strong data-end="512" data-start="475" fr-original-style="" style="font-weight: 700\;">April 28th from 10:30 to 11:30 AM</strong> as we continue laying the foundation for Kentucky&rsquo\;s first Christian Chamber of Commerce and explore how we can advance the Kingdom through the marketplace\, together.</p><p data-end="731" data-start="681"><strong data-end="729" data-start="681" fr-original-style="" style="font-weight: 700\;">During this third Interest Meeting\, we will:</strong></p><p data-end="986" data-start="733">&bull\; Highlight recent progress and key developments<br data-start="781" data-end="784">&bull\; Share updates on vision and structure<br data-start="823" data-end="826">&bull\; Build connections with like-minded marketplace leaders<br data-start="882" data-end="885">&bull\; Spend time in prayer over what God is building<br data-start="933" data-end="936">&bull\; Discuss next steps as we move closer to launch</p><p data-end="1077" data-start="988">📍 <strong data-end="1004" data-start="991" fr-original-style="" style="font-weight: 700\;">Location:</strong><br data-start="1004" data-end="1007">Greenwood Baptist Church<br data-start="1031" data-end="1034">5165 Scottsville Road<br data-start="1055" data-end="1058">Bowling Green\, KY</p><p data-end="1157" data-start="1079">Please feel free to share this invitation with others who may be interested!</p><p data-end="1301" data-start="1159">We would love for you to join us and be part of this growing community of Kingdom-minded professionals impacting the marketplace for Christ.</p><p data-end="1393" data-start="1303">Thank you for your continued support and enthusiasm&mdash\;we look forward to seeing you there!</p><p><br></p><p>If you are wanting to join virtually\, please register\, and use this link:</p><p><span style='font-size:10.0pt\;font-family:"Segoe UI Emoji"\,sans-serif\;'>💻</span><span style='font-size:10.0pt\;font-family:"Verdana"\,sans-serif\;'>&nbsp\;<strong fr-original-style="" style="font-weight: 700\;"><span style='font-family:"Verdana"\,sans-serif\;'>Virtual Option (Microsoft Teams):</span></strong><br>&nbsp\;Join: <a fr-original-style="" href="https://teams.microsoft.com/meet/27986614307787?p=wRkDYpPaLDUPMF8wpZ" rel="noreferrer nofollow noopener" style="user-select: auto\;" target="_blank">&nbsp\;https://teams.microsoft.com/meet/27986614307787?p=wRkDYpPaLDUPMF8wpZ</a><br>&nbsp\;Meeting ID: 279 866 143 077 87<br>&nbsp\;Passcode: BX2ML3TK</span></p><p><br></p><p><a fr-original-style="" href="https://www.facebook.com/share/18AY5XwPE9/" style="user-select: auto\;">Stay updated on Facebook</a></p></body></html>
LOCATION:5165 Scottsville Rd Bowling Green KY
UID:e.2809.1442056
SEQUENCE:3
DTSTAMP:20260421T070310Z
URL:https://business.uschristianchamber.com/azccceventcalendar/Details/bowling-green-kentucky-christian-chamber-in-person-interest-meeting-1707888?sourceTypeId=Hub
END:VEVENT
END:VCALENDAR
