BEGIN:VCALENDAR
VERSION:2.0
PRODID:-//ChamberMaster//Event Calendar 2.0//EN
METHOD:PUBLISH
X-PUBLISHED-TTL:P1H
REFRESH-INTERVAL:P1H
CALSCALE:GREGORIAN
BEGIN:VTIMEZONE
TZID:America/New_York
BEGIN:DAYLIGHT
RRULE:FREQ=YEARLY;BYMONTH=3;BYDAY=2SU
DTSTART:20070101T000000
TZOFFSETFROM:-0500
TZOFFSETTO:-0400
TZNAME:Eastern Daylight Time
END:DAYLIGHT
BEGIN:STANDARD
RRULE:FREQ=YEARLY;BYMONTH=11;BYDAY=1SU
DTSTART:20070101T000000
TZOFFSETFROM:-0400
TZOFFSETTO:-0500
TZNAME:Eastern Standard Time
END:STANDARD
END:VTIMEZONE
BEGIN:VEVENT
DTSTART;TZID=America/New_York:20260508T120000
DTEND;TZID=America/New_York:20260508T133000
X-MICROSOFT-CDO-ALLDAYEVENT:FALSE
SUMMARY:Capital Connect Networking\, Hosted by Tony Ponsiglione
DESCRIPTION:Christian faith-driven networking that builds community\, equips leaders\, and strengthens Christian businesses across Coastal Virginia.\n\nThe CoVA Christian Chamber of Commerce brings Christian business owners together to connect\, collaborate\, and grow in the marketplace. This event is one of our regular networking gatherings for members\, created to build real relationships and encourage faith-driven leadership in business. Non-members are welcome to attend one meeting for free to experience the Chamber community. Those who wish to continue can become members at virginiachristianchamber.com\n\n\nABOUT Tony Ponsiglione\, C-12 Mid-Atlantic\n\nTony equips and challenges Christian business leaders to pursue excellence through the power of peer relationships. He works with faith-driven\, results-oriented CEOs and executives to encourage others to share insight and grow both professionally and spiritually. Through his work\, Tony supports business leaders who are passionate about integrating their faith into their companies and making a meaningful impact in their communities.
X-ALT-DESC;FMTTYPE=text/html:Christian faith-driven networking that builds community\, equips leaders\, and strengthens Christian businesses across Coastal Virginia.\n\nThe CoVA Christian Chamber of Commerce brings Christian business owners together to connect\, collaborate\, and grow in the marketplace. This event is one of our regular networking gatherings for members\, created to build real relationships and encourage faith-driven leadership in business. Non-members are welcome to attend one meeting for free to experience the Chamber community. Those who wish to continue can become members at virginiachristianchamber.com\n\n\nABOUT Tony Ponsiglione\, C-12 Mid-Atlantic\n\nTony equips and challenges Christian business leaders to pursue excellence through the power of peer relationships. He works with faith-driven\, results-oriented CEOs and executives to encourage others to share insight and grow both professionally and spiritually. Through his work\, Tony supports business leaders who are passionate about integrating their faith into their companies and making a meaningful impact in their communities.
LOCATION:Richmond VA 23230
UID:e.2809.1446739
SEQUENCE:3
DTSTAMP:20260421T070142Z
URL:https://business.uschristianchamber.com/azccceventcalendar/Details/capital-connect-networking-hosted-by-tony-ponsiglione-1713549?sourceTypeId=Hub
END:VEVENT
END:VCALENDAR
