BEGIN:VCALENDAR
VERSION:2.0
PRODID:-//ChamberMaster//Event Calendar 2.0//EN
METHOD:PUBLISH
X-PUBLISHED-TTL:P1H
REFRESH-INTERVAL:P1H
CALSCALE:GREGORIAN
BEGIN:VTIMEZONE
TZID:America/New_York
BEGIN:DAYLIGHT
RRULE:FREQ=YEARLY;BYMONTH=3;BYDAY=2SU
DTSTART:20070101T000000
TZOFFSETFROM:-0500
TZOFFSETTO:-0400
TZNAME:Eastern Daylight Time
END:DAYLIGHT
BEGIN:STANDARD
RRULE:FREQ=YEARLY;BYMONTH=11;BYDAY=1SU
DTSTART:20070101T000000
TZOFFSETFROM:-0400
TZOFFSETTO:-0500
TZNAME:Eastern Standard Time
END:STANDARD
END:VTIMEZONE
BEGIN:VEVENT
DTSTART;TZID=America/New_York:20260501T120000
DTEND;TZID=America/New_York:20260501T133000
X-MICROSOFT-CDO-ALLDAYEVENT:FALSE
SUMMARY:CoVA Connect Networking\, Hosted by Nicholas Lombardi
DESCRIPTION:Christian faith-driven networking that builds community\, equips leaders\, and strengthens Christian businesses across Coastal Virginia.\n\nThe CoVA Christian Chamber of Commerce brings Christian business owners together to connect\, collaborate\, and grow in the marketplace. This event is one of our regular networking gatherings for members\, created to build real relationships and encourage faith-driven leadership in business. Non-members are welcome to attend one meeting for free to experience the Chamber community. Those who wish to continue can become members at virginiachristianchamber.com\n\n\n\nABOUT Nicholas Lombardi\, Coalescence Coffee Company\n\nAt Coalescence Coffee Company\, Nick Lombardi seeks to create inviting\, multi-use spaces where people from diverse backgrounds and experiences can coalesce-over coffee\, through events\, or shared interests. By encouraging conversation\, collaboration\, and connection\, Nick and his team aim to reduce loneliness\, to strengthen community\, and to create a sense of belonging.
X-ALT-DESC;FMTTYPE=text/html:Christian faith-driven networking that builds community\, equips leaders\, and strengthens Christian businesses across Coastal Virginia.\n\nThe CoVA Christian Chamber of Commerce brings Christian business owners together to connect\, collaborate\, and grow in the marketplace. This event is one of our regular networking gatherings for members\, created to build real relationships and encourage faith-driven leadership in business. Non-members are welcome to attend one meeting for free to experience the Chamber community. Those who wish to continue can become members at virginiachristianchamber.com\n\n\n\nABOUT Nicholas Lombardi\, Coalescence Coffee Company\n\nAt Coalescence Coffee Company\, Nick Lombardi seeks to create inviting\, multi-use spaces where people from diverse backgrounds and experiences can coalesce-over coffee\, through events\, or shared interests. By encouraging conversation\, collaboration\, and connection\, Nick and his team aim to reduce loneliness\, to strengthen community\, and to create a sense of belonging.
LOCATION:226 W. 24th Street\, Norfolk VA 23518 Norfolk VA 23518
UID:e.2809.1444773
SEQUENCE:3
DTSTAMP:20260421T065706Z
URL:https://business.uschristianchamber.com/azccceventcalendar/Details/cova-connect-networking-hosted-by-nicholas-lombardi-1711175?sourceTypeId=Hub
END:VEVENT
END:VCALENDAR
