BEGIN:VCALENDAR
VERSION:2.0
PRODID:-//ChamberMaster//Event Calendar 2.0//EN
METHOD:PUBLISH
X-PUBLISHED-TTL:P1H
REFRESH-INTERVAL:P1H
CALSCALE:GREGORIAN
BEGIN:VTIMEZONE
TZID:America/New_York
BEGIN:DAYLIGHT
RRULE:FREQ=YEARLY;BYMONTH=3;BYDAY=2SU
DTSTART:20070101T000000
TZOFFSETFROM:-0500
TZOFFSETTO:-0400
TZNAME:Eastern Daylight Time
END:DAYLIGHT
BEGIN:STANDARD
RRULE:FREQ=YEARLY;BYMONTH=11;BYDAY=1SU
DTSTART:20070101T000000
TZOFFSETFROM:-0400
TZOFFSETTO:-0500
TZNAME:Eastern Standard Time
END:STANDARD
END:VTIMEZONE
BEGIN:VEVENT
DTSTART;TZID=America/New_York:20260428T120000
DTEND;TZID=America/New_York:20260428T130000
X-MICROSOFT-CDO-ALLDAYEVENT:FALSE
SUMMARY:Prayer Walk: Covering Flagstaff in Faith & Unity
DESCRIPTION:Join us for a powerful and intentional Prayer Walk as we come together to cover our city\, businesses\, leaders\, and community in prayer. Event Details:Date: April 28th Time: 12:00PM - 1:00PMLocation: 8299 Pecos Rd Flagstaff This is more than a walk this is a movement of faith in action. As the Flagstaff Christian Chamber of Commerce\, we believe transformation begins in the spiritual foundation of our community. During this time\, we will walk together in unity\, praying over key areas of influence including local businesses\, schools\, government\, families\, and future growth across Flagstaff. Whether you are a business leader\, community member\, ministry partner\, or simply someone who desires to stand in the gap this is for you. What to Expect   Guided prayer focus and opening instructions   Strategic walking route (light and accessible)   Prayer prompts for personal and group reflection   Opportunities to connect with other faith-driven leaders   A time of unity\, encouragement\, and Kingdom alignment Prayer Focus Areas   Local Businesses & Economic Growth   Community Leaders & Government   Families & Next Generation   Schools & Education   Church Unity Across Flagstaff   Future Vision & Expansion of Kingdom Impact \nWho Should Attend   Business Owners & Entrepreneurs   Marketplace Professionals   Ministry & Nonprofit Leaders   Community Members   Anyone passionate about prayer and transformation What to Bring   Comfortable walking shoes   Water   A heart ready to pray and engage Registration Information Free Event Registration encouraged for planning purposes Call to Action! Come walk with purpose. Come pray with power. Come be part of what God is doing in Flagstaff!
X-ALT-DESC;FMTTYPE=text/html:<!DOCTYPE html><html><head><title></title></head><body aria-disabled="false"><p>Join us for a powerful and intentional Prayer Walk as we come together to cover our city\, businesses\, leaders\, and community in prayer.&nbsp\;</p><p><strong fr-original-style="" style="font-weight: 700\;">Event Details:</strong></p><p><strong fr-original-style="" style="font-weight: 700\;">Date: </strong>April 28th&nbsp\;</p><p><strong fr-original-style="" style="font-weight: 700\;">Time: </strong>12:00PM - 1:00PM</p><p><span data-olk-copy-source="MessageBody"><strong fr-original-style="" style="font-weight: 700\;">Location: </strong>8299 Pecos Rd Flagstaff</span> </p><p>This is more than a walk&mdash\;this is a movement of faith in action. As the Flagstaff Christian Chamber of Commerce\, we believe transformation begins in the spiritual foundation of our community. During this time\, we will walk together in unity\, praying over key areas of influence including local businesses\, schools\, government\, families\, and future growth across Flagstaff.&nbsp\;</p><p>Whether you are a business leader\, community member\, ministry partner\, or simply someone who desires to stand in the gap&mdash\;this is for you.&nbsp\;</p><p><strong fr-original-style="" style="font-weight: 700\;">What to Expect&nbsp\;</strong></p><p>&bull\; Guided prayer focus and opening instructions</p><p>&nbsp\;&bull\; Strategic walking route (light and accessible)&nbsp\;</p><p>&bull\; Prayer prompts for personal and group reflection&nbsp\;</p><p>&bull\; Opportunities to connect with other faith-driven leaders</p><p>&nbsp\;&bull\; A time of unity\, encouragement\, and Kingdom alignment Prayer Focus Areas&nbsp\;</p><p>&bull\; Local Businesses &amp\; Economic Growth&nbsp\;</p><p>&bull\; Community Leaders &amp\; Government&nbsp\;</p><p>&bull\; Families &amp\; Next Generation&nbsp\;</p><p>&bull\; Schools &amp\; Education&nbsp\;</p><p>&bull\; Church Unity Across Flagstaff&nbsp\;</p><p>&bull\; Future Vision &amp\; Expansion of Kingdom Impact&nbsp\;</p><p><br></p><p><strong fr-original-style="" style="font-weight: 700\;">Who Should Attend</strong></p><p>&nbsp\;&bull\; Business Owners &amp\; Entrepreneurs&nbsp\;</p><p>&bull\; Marketplace Professionals&nbsp\;</p><p>&bull\; Ministry &amp\; Nonprofit Leaders</p><p>&nbsp\;&bull\; Community Members&nbsp\;</p><p>&bull\; Anyone passionate about prayer and transformation&nbsp\;</p><p><strong fr-original-style="" style="font-weight: 700\;">What to Bring&nbsp\;</strong></p><p>&bull\; Comfortable walking shoes&nbsp\;</p><p>&bull\; Water&nbsp\;</p><p>&bull\; A heart ready to pray and engage&nbsp\;</p><p>Registration Information Free&nbsp\;</p><p>Event Registration encouraged for planning purposes&nbsp\;</p><p><strong fr-original-style="" style="font-weight: 700\;">Call to Action!</strong>&nbsp\;</p><p>Come walk with purpose.&nbsp\;</p><p>Come pray with power.&nbsp\;</p><p><strong fr-original-style="" style="font-weight: 700\;">Come be part of what God is doing in Flagstaff!</strong></p></body></html>
LOCATION:8299 Pecos Rd Flagstaff Flagstaff
UID:e.2809.1446758
SEQUENCE:3
DTSTAMP:20260421T070142Z
URL:https://business.uschristianchamber.com/azccceventcalendar/Details/prayer-walk-covering-flagstaff-in-faith-unity-1713568?sourceTypeId=Hub
END:VEVENT
END:VCALENDAR
