BEGIN:VCALENDAR
VERSION:2.0
PRODID:-//ChamberMaster//Event Calendar 2.0//EN
METHOD:PUBLISH
X-PUBLISHED-TTL:P1H
REFRESH-INTERVAL:P1H
CALSCALE:GREGORIAN
BEGIN:VTIMEZONE
TZID:America/New_York
BEGIN:DAYLIGHT
RRULE:FREQ=YEARLY;BYMONTH=3;BYDAY=2SU
DTSTART:20070101T000000
TZOFFSETFROM:-0500
TZOFFSETTO:-0400
TZNAME:Eastern Daylight Time
END:DAYLIGHT
BEGIN:STANDARD
RRULE:FREQ=YEARLY;BYMONTH=11;BYDAY=1SU
DTSTART:20070101T000000
TZOFFSETFROM:-0400
TZOFFSETTO:-0500
TZNAME:Eastern Standard Time
END:STANDARD
END:VTIMEZONE
BEGIN:VEVENT
DTSTART;TZID=America/New_York:20270414T140000

X-MICROSOFT-CDO-ALLDAYEVENT:FALSE
SUMMARY:Wisdom & Work Wednesday
DESCRIPTION:Hosted Monthly by: Susanne Venberg\, Boria Wealth Come be refreshed\, encouraged\, and equipped at Wisdom & Work Wednesday\, a monthly gathering of AZCCC members and guests where faith and business align. Together\, we'll sharpen one another with biblical wisdom\, practical business insights\, and meaningful connections that strengthen both our spiritual walk and professional journey. ZOOM LINK: ZOOM Meeting: https://us06web.zoom.us/j/81651839930What to Expect: 🙏 Prayer & Scripture   Opening prayer with a monthly verse to set the tone (Colossians 3:23: "Whatever you do\, work at it with all your heart\, as working for the Lord\, not for human masters.") 🏢 Chamber Update   News on AZCCC membership\, upcoming events\, and opportunities to get involved. 🎤 Guest Speaker / Education Spotlight   Timely teaching on networking\, business development\, podcast recaps\, or other resourceful topics. 🤝 Member Shares   Each participant will have 1 2 minutes to introduce themselves\, their business\, and share a referral or need. 🙌 Referrals & Thanks   Celebrating and thanking those who help move Kingdom commerce forward. Prayer Requests   Standing together in faith\, lifting up needs and giving God the glory. 🙏 Closing Prayer   Sending everyone into the week encouraged and aligned. Why Attend? This isn't just networking it's Kingdom networking. Wisdom & Work Wednesday will help you: Build meaningful relationships grounded in faith. Gain practical tools and insights to grow your business. Experience community prayer that covers your business and life. Leave uplifted and equipped to impact the marketplace for Christ. ✨ Join us each month and make midweek a time of purpose\, connection\, and Kingdom alignment.
X-ALT-DESC;FMTTYPE=text/html:<!DOCTYPE html><html><head><title></title></head><body aria-disabled="false"><p>Hosted Monthly by: Susanne Venberg\, Boria Wealth&nbsp\;</p><p>Come be refreshed\, encouraged\, and equipped at Wisdom &amp\; Work Wednesday\, a monthly gathering of AZCCC members and guests where faith and business align.&nbsp\;</p><p>Together\, we&rsquo\;ll sharpen one another with biblical wisdom\, practical business insights\, and meaningful connections that strengthen both our spiritual walk and professional journey.&nbsp\;</p><p>ZOOM LINK: ZOOM Meeting: https://us06web.zoom.us/j/81651839930</p><p>What to Expect:&nbsp\;</p><p>🙏 Prayer &amp\; Scripture &ndash\; Opening prayer with a monthly verse to set the tone (Colossians 3:23: &ldquo\;Whatever you do\, work at it with all your heart\, as working for the Lord\, not for human masters.&rdquo\;)&nbsp\;</p><p>🏢 Chamber Update &ndash\; News on AZCCC membership\, upcoming events\, and opportunities to get involved.&nbsp\;</p><p>🎤 Guest Speaker / Education Spotlight &ndash\; Timely teaching on networking\, business development\, podcast recaps\, or other resourceful topics.&nbsp\;</p><p>🤝 Member Shares &ndash\; Each participant will have 1&ndash\;2 minutes to introduce themselves\, their business\, and share a referral or need.&nbsp\;</p><p>🙌 Referrals &amp\; Thanks &ndash\; Celebrating and thanking those who help move Kingdom commerce forward. Prayer Requests &ndash\; Standing together in faith\, lifting up needs and giving God the glory.&nbsp\;</p><p>🙏 Closing Prayer &ndash\; Sending everyone into the week encouraged and aligned. Why Attend? This isn&rsquo\;t just networking&mdash\;it&rsquo\;s Kingdom networking. Wisdom &amp\; Work Wednesday will help you: Build meaningful relationships grounded in faith. Gain practical tools and insights to grow your business. Experience community prayer that covers your business and life. Leave uplifted and equipped to impact the marketplace for Christ.&nbsp\;</p><p>✨ Join us each month and make midweek a time of purpose\, connection\, and Kingdom alignment.</p></body></html>
LOCATION:
UID:e.2809.1301163
SEQUENCE:3
DTSTAMP:20260421T070136Z
URL:https://business.uschristianchamber.com/azccceventcalendar/Details/wisdom-work-wednesday-1569041?sourceTypeId=Hub
END:VEVENT
END:VCALENDAR
